BEGIN:VCALENDAR
VERSION:2.0
PRODID:-//Asun Santamaría - ECPv6.15.20//NONSGML v1.0//EN
CALSCALE:GREGORIAN
METHOD:PUBLISH
X-ORIGINAL-URL:https://asunsantamaria.com
X-WR-CALDESC:Eventos para Asun Santamaría
REFRESH-INTERVAL;VALUE=DURATION:PT1H
X-Robots-Tag:noindex
X-PUBLISHED-TTL:PT1H
BEGIN:VTIMEZONE
TZID:UTC
BEGIN:STANDARD
TZOFFSETFROM:+0000
TZOFFSETTO:+0000
TZNAME:UTC
DTSTART:20230101T000000
END:STANDARD
END:VTIMEZONE
BEGIN:VTIMEZONE
TZID:Europe/Madrid
BEGIN:DAYLIGHT
TZOFFSETFROM:+0100
TZOFFSETTO:+0200
TZNAME:CEST
DTSTART:20230326T010000
END:DAYLIGHT
BEGIN:STANDARD
TZOFFSETFROM:+0200
TZOFFSETTO:+0100
TZNAME:CET
DTSTART:20231029T010000
END:STANDARD
BEGIN:DAYLIGHT
TZOFFSETFROM:+0100
TZOFFSETTO:+0200
TZNAME:CEST
DTSTART:20240331T010000
END:DAYLIGHT
BEGIN:STANDARD
TZOFFSETFROM:+0200
TZOFFSETTO:+0100
TZNAME:CET
DTSTART:20241027T010000
END:STANDARD
BEGIN:DAYLIGHT
TZOFFSETFROM:+0100
TZOFFSETTO:+0200
TZNAME:CEST
DTSTART:20250330T010000
END:DAYLIGHT
BEGIN:STANDARD
TZOFFSETFROM:+0200
TZOFFSETTO:+0100
TZNAME:CET
DTSTART:20251026T010000
END:STANDARD
END:VTIMEZONE
BEGIN:VEVENT
DTSTART;TZID=UTC:20241108T130000
DTEND;TZID=UTC:20241108T140000
DTSTAMP:20260422T160552
CREATED:20241103T112132Z
LAST-MODIFIED:20241109T140711Z
UID:4093-1731070800-1731074400@asunsantamaria.com
SUMMARY:Presentación de Candidatura Campus Sur
DESCRIPTION:CAMPUS SUR 08/11\n				\n			\n				\n			\n				\n				CAMPUS SUR 08/11\n				\n			\n				\n			\n				\n				CAMPUS SUR 08/11\n				\n			\n				\n			\n				\n				CAMPUS SUR 08/11\n				\n			\n				\n			\n				\n				CAMPUS SUR 08/11
URL:https://asunsantamaria.com/acto/presentacion-de-candidatura-campus-sur/
LOCATION:Campus Sur – Salón de Actos\, Campus sur UPM\, M-40\, Puente de Vallecas\, Madrid\, 28031
END:VEVENT
BEGIN:VEVENT
DTSTART;TZID=Europe/Madrid:20241108T100000
DTEND;TZID=Europe/Madrid:20241108T110000
DTSTAMP:20260422T160552
CREATED:20241103T110931Z
LAST-MODIFIED:20241109T140552Z
UID:4090-1731060000-1731063600@asunsantamaria.com
SUMMARY:Presentación de Candidatura INEF
DESCRIPTION:
URL:https://asunsantamaria.com/acto/presentacion-de-candidatura-inef/
LOCATION:Facultad de Ciencias de la Actividad Física y del Deporte\, Calle de Martín Fierro\, 7\, Madrid\, 28040
END:VEVENT
BEGIN:VEVENT
DTSTART;TZID=Europe/Madrid:20241107T130000
DTEND;TZID=Europe/Madrid:20241107T140000
DTSTAMP:20260422T160552
CREATED:20241103T105823Z
LAST-MODIFIED:20241103T110122Z
UID:4084-1730984400-1730988000@asunsantamaria.com
SUMMARY:Presentación de Candidatura ETSI Montes\, Forestal y Medio Natural
DESCRIPTION:
URL:https://asunsantamaria.com/acto/presentacion-de-candidatura-etsi-montes-forestal-y-medio-natural/
LOCATION:Escuela Técnica  Superior de Ingeniería de Montes\, Forestal y del Medio Natural\, Calle de José Antonio Novais\, 10\, Madrid\, 28040
END:VEVENT
BEGIN:VEVENT
DTSTART;TZID=UTC:20241106T130000
DTEND;TZID=UTC:20241106T140000
DTSTAMP:20260422T160552
CREATED:20241103T120709Z
LAST-MODIFIED:20241109T140222Z
UID:4120-1730898000-1730901600@asunsantamaria.com
SUMMARY:Presentación de Candidatura ETSIT
DESCRIPTION:ETSIT 06/11\n				\n			\n				\n			\n				\n				ETSIT 06/11\n				\n			\n				\n			\n				\n				ETSIT 06/11\n				\n			\n				\n			\n				\n				ETSIT 06/11
URL:https://asunsantamaria.com/acto/presentacion-de-candidatura-etsit/
LOCATION:Escuela Técnica Superior de Ingenieros de Telecomunicación\, Avenida Complutense\, 30\, Madrid\, 28040
END:VEVENT
BEGIN:VEVENT
DTSTART;TZID=Europe/Madrid:20241105T130000
DTEND;TZID=Europe/Madrid:20241105T140000
DTSTAMP:20260422T160552
CREATED:20241103T095911Z
LAST-MODIFIED:20241106T020904Z
UID:4063-1730811600-1730815200@asunsantamaria.com
SUMMARY:Presentación de Candidatura ETSIDI
DESCRIPTION:ETSIDI 05/11\n				\n			\n				\n			\n				\n				ETSIDI 05/11\n				\n			\n				\n			\n				\n				ETSIDI 05/11\n				\n			\n				\n			\n			\n				\n			\n				\n				ETSIDI 05/11
URL:https://asunsantamaria.com/acto/presentacion-de-candidatura/
LOCATION:Escuela Técnica Superior de Ingeniería y Diseño Industrial\, Ronda de Valencia nº 3\, Madrid\, 28012
END:VEVENT
END:VCALENDAR